Workbook

Sheet 공연
A1: 어울아트센터-소공연장 시설(설비) 사용신청서(공연)
A3: ○ | B3: 공연명 | E3: :
A4: ○ | B4: 단 체 명 | E4: :
A5: ○ | B5: 대관일자 | E5: :
E6: ( 공연시간 : | K6: )
A7: ○ | B7: 대관료 | E7: : | F7: =TEXT(J15+J43, "###,###")&" 원" -> 원
A8: ○ | B8: 사용료내역
A9: 1. 기본시설 사용
A10: 구분 | J10: 사용금액(원) | K10: 기준 사용료 | N10: 설치, 연습 사용료 (70% 적용) | Q10: 설치만 되어 있는 경우 (30% 적용) | T10: 비고
K11: 구분 | L11: 금액 | M11: 횟수 | N11: 구분 | O11: 금액 | P11: 횟수 | Q11: 구분 | R11: 금액 | S11: 횟수
A12: 평일/휴일 | C12: 오전(09:00~12:00) | J12: =L12*M12+O12*P12+R12*S12 -> 0 | K12: 오전 | L12: 30000 | N12: 오전 | O12: 20000 | Q12: 오전 | R12: =L12*0.3 -> 9000
C13: 오후(13:00~17:00) | J13: =L13*M13+O13*P13+R13*S13 -> 0 | K13: 오후 | L13: 30000 | N13: 오후 | O13: 20000 | Q13: 오후 | R13: =L13*0.3 -> 9000
C14: 야간(18:00~22:00) | J14: =L14*M14+O14*P14+R14*S14 -> 0 | K14: 야간 | L14: 30000 | N14: 야간 | O14: 20000 | Q14: 야간 | R14: =L14*0.3 -> 9000
A15: 기본시설 사용료(합계) | J15: =SUM(J12:J14) -> 0
A17: 2. 부속설비 사용
A18: 구분 | J18: 사용금액(원) | K18: 기준 사용료 | N18: 설치, 연습 사용료(50%) | Q18: 비고
K19: 구분 | L19: 금액 | M19: 횟수 | N19: 구분 | O19: 금액 | P19: 횟수
A20: 피아노 | C20: 피아노(국산) | J20: =L20*M20+O20*P20 -> 0 | K20: 1회 | L20: 10000 | N20: 1회 | O20: 5000
A21: 조명시설 | C21: 기본조명 | J21: =L21*M21+O21*P21 -> 0 | K21: 1회 | L21: 70000 | N21: 1회 | O21: =L21*0.5 -> 35000 | Q21: 기본조명을 제외한 조명의 운영인력은 대관자 부담(설치 및 철거, 운영) Moving Light는 순수공연만 대관(행사 및 발표회는 제외) 사용료는 1대 기준임
C22: strobe | J22: =L22*M22+O22*P22 -> 0 | K22: 1회 | L22: 30000 | N22: 1회 | O22: =L22*0.5 -> 15000
C23: follow spot light | J23: =L23*M23+O23*P23 -> 0 | K23: 1회 | L23: 30000 | N23: 1회 | O23: =L23*0.5 -> 15000
C24: Par64, Par46 | J24: =L24*M24+O24*P24 -> 0 | K24: 1회 | L24: 5000 | N24: 1회 | O24: =L24*0.5 -> 2500
C25: Moving Console | J25: =L25*M25+O25*P25 -> 0 | K25: 1회 | L25: 30000 | N25: 1회 | O25: =L25*0.5 -> 15000
C26: Moving Light | J26: =L26*M26+O26*P26 -> 0 | K26: 1회 | L26: 50000 | N26: 1회 | O26: =L26*0.5 -> 25000
A27: 음향ㆍ 영상시설 | C27: 음향반사판 | J27: =L27*M27+O27*P27 -> 0 | K27: 1회 | L27: 30000 | N27: 1회 | O27: =L27*0.5 -> 15000 | Q27: 유선마이크 3개기준 10,000원 1개 초과시 5,000원 무선마이크 2개기준 20,000원 1개 초과시 10,000원 추가 무선마이크 건전지는 대관자 부담 노트북은 대관자 준비 음향 오퍼레이터(Operator) 및 진행스탭은 대관자 측에서 동반함을 원칙으로 함
C28: 유선마이크 | G28: ( | H28: 3 | I28: 개) | J28: =L28*M28+O28*P28 -> 0 | K28: 1회 | L28: =IF(H28>3,10000+(H28-3)*5000,10000) -> 10000 | N28: 1회 | O28: =L28*0.5 -> 5000
C29: 무선마이크 | G29: ( | H29: 2 | I29: 개) | J29: =L29*M29+O29*P29 -> 0 | K29: 1회 | L29: =IF(H29>2,20000+(H29-2)*10000,20000) -> 20000 | N29: 1회 | O29: =L29*0.5 -> 10000
C30: 더블CDP | J30: =L30*M30+O30*P30 -> 0 | K30: 1회 | L30: 10000 | N30: 1회 | O30: =L30*0.5 -> 5000
C31: 외부무선마이크 | J31: =L31*M31+O31*P31 -> 0 | K31: 1회 | L31: 5000 | N31: 1회 | O31: =L31*0.5 -> 2500
C32: 영사기(35m/m) | J32: =L32*M32+O32*P32 -> 0 | K32: 1회 | L32: 20000 | N32: 1회 | O32: =L32*0.5 -> 10000
C33: 비디오프로젝트 | J33: =L33*M33+O33*P33 -> 0 | K33: 1회 | L33: 20000 | N33: 1회 | O33: =L33*0.5 -> 10000
C34: 녹화 - 비디오 | J34: =L34*M34+O34*P34 -> 0 | K34: 1회 | L34: 30000 | N34: 1회 | O34: =L34*0.5 -> 15000
A35: 무대시설 | C35: 덧마루 | J35: =L35*M35 -> 0 | K35: 1일 | L35: 30000 | N35: 공연연습을 위한 사용료 없음 (1일 기준 사용료) | Q35: 운영인력은 대관자가 부담(설치 및 철거) 고무매트는 테이프 포함 금액임 보면대 - 10개 이상 사용시 적용
C36: 고무매트 | J36: =L36*M36 -> 0 | K36: 1일 | L36: 50000
C37: 보면대 | J37: =L37*M37 -> 0 | K37: 1일 | L37: 10000
C38: 흑샤막 | J38: =L38*M38 -> 0 | K38: 1일 | L38: 30000
C39: 백샤막 | J39: =L39*M39 -> 0 | K39: 1일 | L39: 30000
A40: 냉난방 시설 | C40: 냉방 | J40: =L40*M40+O40*P40 -> 0 | K40: 1회 | L40: 25000 | N40: 1회 | O40: =L40 -> 25000 | Q40: 공연연습을 위한 사용료감면 없음
C41: 난방 | J41: =L41*M41+O41*P41 -> 0 | K41: 1회 | L41: 25000 | N41: 1회 | O41: =L41 -> 25000
A42: 기타 | C42: 스모그기 | J42: =L42*M42+O42*P42 -> 0 | K42: 1회 | L42: 30000 | N42: 1회 | O42: =L42 -> 30000 | Q42: 운영인력은 대관자가 부담 재료비를 포함한 금액
A43: 부속설비 사용료(합계) | J43: =SUM(J20:J42) -> 0
A45: <작성 시 유의사항>
A46: * 기본시설 및 부속설비에 이용 신청 항목에 횟수(숫자)로만 입력 해 주시면 됩니다. * 부속설비 사용횟수는 기본시설사용 사용횟수와 동일해야합니다.(ex. 평일 오후1회, 야간 1회 기본시설 사용시, 부속설비 기준사용은 2회 기입) * 유선마이크 3개 이상 필요시 원하시는 개수로 내용수정 바랍니다. ( 3개이하 사용시 기준사용료 변동 없음 ) * 무선마이크 2개 이상 필요시 원하시는 개수로 내용수정 바랍니다. ( 2개이하 사용시 기준사용료 변동 없음 ) * 자세한 사항은 전화문의 (☎053-320-5127) 바랍니다.

Sheet 공연,행사
A1: 어울아트센터-소공연장 시설(설비) 사용신청서(행사)
A3: ○ | B3: 공연명 | E3: :
A4: ○ | B4: 단 체 명 | E4: :
A5: ○ | B5: 대관일자 | E5: :
E6: ( 공연시간 : | K6: )
A7: ○ | B7: 대관료 | E7: : | F7: =TEXT(J15+J43, "###,###")&" 원" -> 원
A8: ○ | B8: 사용료내역
A9: 1. 기본시설 사용
A10: 구분 | J10: 사용금액(원) | K10: 기준 사용료 | N10: 설치, 연습 사용료 (70% 적용) | Q10: 설치만 되어 있는 경우 (30% 적용) | T10: 비고
K11: 구분 | L11: 금액 | M11: 횟수 | N11: 구분 | O11: 금액 | P11: 횟수 | Q11: 구분 | R11: 금액 | S11: 횟수
A12: 평일/휴일 | C12: 오전(09:00~12:00) | J12: =L12*M12+O12*P12+R12*S12 -> 0 | K12: 오전 | L12: 30000 | N12: 오전 | O12: 20000 | Q12: 오전 | R12: =L12*0.3 -> 9000
C13: 오후(13:00~17:00) | J13: =L13*M13+O13*P13+R13*S13 -> 0 | K13: 오후 | L13: 30000 | N13: 오후 | O13: 20000 | Q13: 오후 | R13: =L13*0.3 -> 9000
C14: 야간(18:00~22:00) | J14: =L14*M14+O14*P14+R14*S14 -> 0 | K14: 야간 | L14: 30000 | N14: 야간 | O14: 20000 | Q14: 야간 | R14: =L14*0.3 -> 9000
A15: 기본시설 사용료(합계) | J15: =SUM(J12:J14) -> 0
A17: 2. 부속설비 사용
A18: 구분 | J18: 사용금액(원) | K18: 기준 사용료 | N18: 설치, 연습 사용료(50%) | Q18: 비고
K19: 구분 | L19: 금액 | M19: 횟수 | N19: 구분 | O19: 금액 | P19: 횟수
A20: 피아노 | C20: 피아노 | J20: =L20*M20+O20*P20 -> 0 | K20: 1회 | L20: 10000 | N20: 1회 | O20: 5000
A21: 조명시설 | C21: 기본조명 | J21: =L21*M21+O21*P21 -> 0 | K21: 1회 | L21: 40000 | N21: 1회 | O21: =L21*0.5 -> 20000 | Q21: 기본조명을 제외한 조명의 운영인력은 대관자 부담(설치 및 철거, 운영) Moving Light는 순수공연만 대관(행사 및 발표회는 제외) 사용료는 1대 기준임
C22: strobe | J22: =L22*M22+O22*P22 -> 0 | K22: 1회 | L22: 30000 | N22: 1회 | O22: =L22*0.5 -> 15000
C23: follow spot light | J23: =L23*M23+O23*P23 -> 0 | K23: 1회 | L23: 30000 | N23: 1회 | O23: =L23*0.5 -> 15000
C24: Par64, Par46 | J24: =L24*M24+O24*P24 -> 0 | K24: 1회 | L24: 5000 | N24: 1회 | O24: =L24*0.5 -> 2500
C25: Moving Console | J25: =L25*M25+O25*P25 -> 0 | K25: 1회 | L25: 30000 | N25: 1회 | O25: =L25*0.5 -> 15000
C26: Moving Light | J26: =L26*M26+O26*P26 -> 0 | K26: 1회 | L26: 50000 | N26: 1회 | O26: =L26*0.5 -> 25000
A27: 음향ㆍ 영상시설 | C27: 음향반사판 | J27: =L27*M27+O27*P27 -> 0 | K27: 1회 | L27: 30000 | N27: 1회 | O27: =L27*0.5 -> 15000 | Q27: 유선마이크 3개기준 10,000원 1개 초과시 5,000원 무선마이크 2개기준 20,000원 1개 초과시 10,000원 추가 무선마이크 건전지는 대관자 부담 노트북은 대관자 준비 음향 오퍼레이터(Operator) 및 진행스탭은 대관자 측에서 동반함을 원칙으로 함
C28: 유선마이크 | G28: ( | H28: 3 | I28: 개) | J28: =L28*M28+O28*P28 -> 0 | K28: 1회 | L28: =IF(H28>3,10000+(H28-3)*5000,10000) -> 10000 | N28: 1회 | O28: =L28*0.5 -> 5000
C29: 무선마이크 | G29: ( | H29: 2 | I29: 개) | J29: =L29*M29+O29*P29 -> 0 | K29: 1회 | L29: =IF(H29>2,20000+(H29-2)*10000,20000) -> 20000 | N29: 1회 | O29: =L29*0.5 -> 10000
C30: 더블CDP | J30: =L30*M30+O30*P30 -> 0 | K30: 1회 | L30: 10000 | N30: 1회 | O30: =L30*0.5 -> 5000
C31: 외부무선마이크 | J31: =L31*M31+O31*P31 -> 0 | K31: 1회 | L31: 5000 | N31: 1회 | O31: =L31*0.5 -> 2500
C32: 영사기(35m/m) | J32: =L32*M32+O32*P32 -> 0 | K32: 1회 | L32: 20000 | N32: 1회 | O32: =L32*0.5 -> 10000
C33: 비디오프로젝트 | J33: =L33*M33+O33*P33 -> 0 | K33: 1회 | L33: 20000 | N33: 1회 | O33: =L33*0.5 -> 10000
C34: 녹화 - 비디오 | J34: =L34*M34+O34*P34 -> 0 | K34: 1회 | L34: 30000 | N34: 1회 | O34: =L34*0.5 -> 15000
A35: 무대시설 | C35: 덧마루 | J35: =L35*M35 -> 0 | K35: 1일 | L35: 30000 | N35: 공연연습을 위한 사용료 없음 (1일 기준 사용료) | Q35: 운영인력은 대관자가 부담(설치 및 철거) 고무매트는 테이프 포함 금액임 보면대 - 10개 이상 사용시 적용
C36: 고무매트 | J36: =L36*M36 -> 0 | K36: 1일 | L36: 50000
C37: 보면대 | J37: =L37*M37 -> 0 | K37: 1일 | L37: 10000
C38: 흑샤막 | J38: =L38*M38 -> 0 | K38: 1일 | L38: 30000
C39: 백샤막 | J39: =L39*M39 -> 0 | K39: 1일 | L39: 30000
A40: 냉난방 시설 | C40: 냉방 | J40: =L40*M40+O40*P40 -> 0 | K40: 1회 | L40: 25000 | N40: 1회 | O40: =L40 -> 25000 | Q40: 공연연습을 위한 사용료감면 없음
C41: 난방 | J41: =L41*M41+O41*P41 -> 0 | K41: 1회 | L41: 25000 | N41: 1회 | O41: =L41 -> 25000
A42: 기타 | C42: 스모그기 | J42: =L42*M42+O42*P42 -> 0 | K42: 1회 | L42: 30000 | N42: 1회 | O42: =L42 -> 30000 | Q42: 운영인력은 대관자가 부담 재료비를 포함한 금액
A43: 부속설비 사용료(합계) | J43: =SUM(J20:J42) -> 0
A45: <작성 시 유의사항>
A46: * 기본시설 및 부속설비에 이용 신청 항목에 횟수(숫자)로만 입력 해 주시면 됩니다. * 부속설비 사용횟수는 기본시설사용 사용횟수와 동일해야합니다.(ex. 평일 오후1회, 야간 1회 기본시설 사용시, 부속설비 기준사용은 2회 기입) * 유선마이크 3개 이상 필요시 원하시는 개수로 내용수정 바랍니다. ( 3개이하 사용시 기준사용료 변동 없음 ) * 무선마이크 2개 이상 필요시 원하시는 개수로 내용수정 바랍니다. ( 2개이하 사용시 기준사용료 변동 없음 ) * 자세한 사항은 전화문의 (☎053-320-5125) 바랍니다.

Sheet 납부
A1: 대관료 내역
B3: 1. | C3: 행사명 | F3: : | G3: 대구북구문화원 '하모니카로 노년을 힙(Hip)하게'
B4: 2. | C4: 단체명 | F4: : | G4: 대구광역시 북구문화원
B5: 3. | C5: 대관일자 | F5: : | G5: 2023.11.1.(수)
G6: ='공연,행사'!E6 -> ( 공연시간 : | M6: ='공연,행사'!J6&" )" -> )
B8: 4. | C8: 산출근거
C9: 가. | D9: 준비사용 | AB9: =SUM(AC10:AD22) -> 20000
D10: - | E10: 기본시설 | H10: : | I10: 11.1.(수) | L10: 오후 | N10: 1 | O10: 회 | P10: × | Q10: 20000 | AC10: =N10*Q10 -> 20000
D12: - | E12: 부속시설 | H12: : | I12: 피아노 | N12: ='공연,행사'!$P$20 -> 0 | O12: 회 | P12: × | Q12: ='공연,행사'!O20 -> 5000 | AC12: =N12*Q12 -> 0
D13: - | E13: 부속시설 | H13: : | I13: 기본조명 | N13: ='공연,행사'!$P$21 -> 0 | O13: 회 | P13: × | Q13: ='공연,행사'!O21 -> 20000 | AC13: =N13*Q13 -> 0
D14: - | E14: 부속시설 | H14: : | I14: 음향반사판 | N14: ='공연,행사'!$P$27 -> 0 | O14: 회 | P14: × | Q14: ='공연,행사'!O27 -> 15000 | AC14: =N14*Q14 -> 0
D15: - | E15: 부속시설 | H15: : | I15: 유선마이크 | N15: ='공연,행사'!$P$28 -> 0 | O15: 회 | P15: × | Q15: ='공연,행사'!O28 -> 5000 | V15: ( | W15: ='공연,행사'!H28 -> 3 | X15: 대기준) | AC15: =N15*Q15 -> 0
D16: - | E16: 부속시설 | H16: : | I16: 무선마이크 | N16: ='공연,행사'!$P$29 -> 0 | O16: 회 | P16: × | Q16: ='공연,행사'!O29 -> 10000 | V16: ( | W16: ='공연,행사'!H29 -> 2 | X16: 대기준) | AC16: =N16*Q16 -> 0
D17: - | E17: 부속시설 | H17: : | I17: CD플레이어 | N17: ='공연,행사'!$P$30 -> 0 | O17: 회 | P17: × | Q17: ='공연,행사'!O30 -> 5000 | AC17: =N17*Q17 -> 0
D18: - | E18: 부속시설 | H18: : | I18: 외부무선마이크 | N18: ='공연,행사'!$P$31 -> 0 | O18: 회 | P18: × | Q18: ='공연,행사'!O31 -> 2500 | AC18: =N18*Q18 -> 0
D19: - | E19: 부속시설 | H19: : | I19: 비디오프로젝트 | N19: ='공연,행사'!$P$33 -> 0 | O19: 회 | P19: × | Q19: ='공연,행사'!O33 -> 10000 | AC19: =N19*Q19 -> 0
D20: - | E20: 부속시설 | H20: : | I20: 냉방 | N20: ='공연,행사'!$P$40 -> 0 | O20: 회 | P20: × | Q20: ='공연,행사'!O40 -> 25000 | AC20: =N20*Q20 -> 0
D21: - | E21: 부속시설 | H21: : | I21: 난방 | N21: ='공연,행사'!$P$41 -> 0 | O21: 회 | P21: × | Q21: ='공연,행사'!O41 -> 25000 | AC21: =N21*Q21 -> 0
C23: 나. | D23: 공연사용 | AB23: =SUM(AB24:AD39) -> 30000
D24: - | E24: 기본시설 | H24: : | I24: 11.1.(수) | L24: 야간 | N24: 1 | O24: 회 | P24: × | Q24: 30000 | AC24: =N24*Q24 -> 30000
D26: - | E26: 부속시설 | H26: : | I26: 피아노 | N26: ='공연,행사'!M20 -> 0 | O26: 회 | P26: × | Q26: ='공연,행사'!L20 -> 10000 | AC26: =N26*Q26 -> 0
D27: - | E27: 부속시설 | H27: : | I27: 기본조명 | N27: ='공연,행사'!M21 -> 0 | O27: 회 | P27: × | Q27: ='공연,행사'!L21 -> 40000 | AC27: =N27*Q27 -> 0
D28: - | E28: 부속시설 | H28: : | I28: 음향반사판 | N28: ='공연,행사'!M27 -> 0 | O28: 회 | P28: × | Q28: ='공연,행사'!L27 -> 30000 | AC28: =N28*Q28 -> 0
D29: - | E29: 부속시설 | H29: : | I29: 유선마이크 | N29: ='공연,행사'!M28 -> 0 | O29: 회 | P29: × | Q29: ='공연,행사'!L28 -> 10000 | V29: ( | W29: ='공연,행사'!H28 -> 3 | X29: 대기준) | AC29: =N29*Q29 -> 0
D30: - | E30: 부속시설 | H30: : | I30: 무선마이크 | N30: ='공연,행사'!M29 -> 0 | O30: 회 | P30: × | Q30: ='공연,행사'!L29 -> 20000 | V30: ( | W30: ='공연,행사'!H29 -> 2 | X30: 대기준) | AC30: =N30*Q30 -> 0
D31: - | E31: 부속시설 | H31: : | I31: CD플레이어 | N31: ='공연,행사'!M30 -> 0 | O31: 회 | P31: × | Q31: ='공연,행사'!L30 -> 10000 | AC31: =N31*Q31 -> 0
D32: - | E32: 부속시설 | H32: : | I32: 외부무선마이크 | N32: ='공연,행사'!M31 -> 0 | O32: 회 | P32: × | Q32: ='공연,행사'!L31 -> 5000 | AC32: =N32*Q32 -> 0
D33: - | E33: 부속시설 | H33: : | I33: 비디오프로젝트 | N33: ='공연,행사'!M33 -> 0 | O33: 회 | P33: × | Q33: ='공연,행사'!L33 -> 20000 | AC33: =N33*Q33 -> 0
D34: - | E34: 부속시설 | H34: : | I34: 덧마루 | N34: ='공연,행사'!M35 -> 0 | O34: 회 | P34: × | Q34: ='공연,행사'!L35 -> 30000 | AC34: =N34*Q34 -> 0
D35: - | E35: 부속시설 | H35: : | I35: 고무매트 | N35: ='공연,행사'!M36 -> 0 | O35: 회 | P35: × | Q35: ='공연,행사'!L36 -> 50000 | AC35: =N35*Q35 -> 0
D36: - | E36: 부속시설 | H36: : | I36: 보면대 | N36: ='공연,행사'!M39 -> 0 | O36: 회 | P36: × | Q36: ='공연,행사'!L39 -> 30000 | AC36: =N36*Q36 -> 0
D37: - | E37: 부속시설 | H37: : | I37: 냉방 | N37: ='공연,행사'!M40 -> 0 | O37: 회 | P37: × | Q37: ='공연,행사'!L40 -> 25000 | AC37: =N37*Q37 -> 0
D38: - | E38: 부속시설 | H38: : | I38: 난방 | N38: ='공연,행사'!M41 -> 0 | O38: 회 | P38: × | Q38: ='공연,행사'!L41 -> 25000 | AC38: =N38*Q38 -> 0
C40: 다. | D40: 대관료 | AA40: =AB9+AB23 -> 50000
D41: - | E41: 기본시설 | H41: : | I41: =SUM(AC10:AD11)+SUM(AC24:AD25) -> 50000
D42: - | E42: 부속시설 | H42: : | I42: =SUM(AC12:AD22)+SUM(AC26:AD39) -> 0
B44: 5. | C44: 입금계좌 | F44: : | G44: 대구은행 505-10-196761-4 재단법인행복북구문화재단
B47: ※ 사용시간 구분 : 오전 09:00~12:00│오후 13:00~17:00│야간18:00~22:00 ※ 공연연습, 무대시설, 행사준비를 위한 사용시는 당해 기준 사용료의 50%로 함(덧마루,난방 제외) ※ 토요일, 일요일, 공휴일 사용시는 당해기준 사용료의 20%를 가산함 ※ 공연 오퍼레이터(operrator)및 진행스텝은 대관자 측에서 동반함을 원칙으로 함

Sheet 공연_납부(음향반사판)
A1: 대관료 내역
B3: 1. | C3: 행사명 | F3: : | G3: =#REF! -> #REF!
B4: 2. | C4: 단체명 | F4: : | G4: ='공연,행사'!F4 -> 0
B5: 3. | C5: 대관일자 | F5: : | G5: ='공연,행사'!F5 -> 0
G6: ='공연,행사'!E6 -> ( 공연시간 : | M6: =#REF!&" )" -> #REF!
B8: 4. | C8: 산출근거
C9: 가. | D9: 준비사용 | AB9: =SUM(AC10:AD25) -> #REF!
D10: - | E10: 기본시설 | H10: : | I10: 2.1.(목) | L10: 오전 | O10: 회 | P10: × | Q10: 99000 | V10: × | W10: 0.5 | AC10: =N10*Q10*W10 -> 0
L11: 오후 | O11: 회 | P11: × | Q11: 143000 | V11: × | W11: 0.5 | AC11: =N11*Q11*W11 -> 0
D14: - | E14: 부속시설 | H14: : | I14: =#REF! -> #REF! | N14: =#REF! -> #REF! | O14: 회 | P14: × | Q14: =#REF! -> #REF! | AC14: =N14*Q14 -> #REF!
D15: - | E15: 부속시설 | H15: : | I15: =#REF! -> #REF! | N15: =#REF! -> #REF! | O15: 회 | P15: × | Q15: =#REF! -> #REF! | AC15: =N15*Q15 -> #REF!
D16: - | E16: 부속시설 | H16: : | I16: 기본조명 | N16: =#REF! -> #REF! | O16: 회 | P16: × | Q16: =#REF! -> #REF! | AC16: =N16*Q16 -> #REF!
D17: - | E17: 부속시설 | H17: : | I17: 음향반사판 | N17: =#REF! -> #REF! | O17: 회 | P17: × | Q17: =#REF! -> #REF! | AC17: =N17*Q17 -> #REF!
D18: - | E18: 부속시설 | H18: : | I18: 유선마이크 | N18: =#REF! -> #REF! | O18: 회 | P18: × | Q18: =#REF! -> #REF! | V18: ( | W18: =#REF! -> #REF! | X18: 대기준) | AC18: =N18*Q18 -> #REF!
D19: - | E19: 부속시설 | H19: : | I19: 무선마이크 | N19: =#REF! -> #REF! | O19: 회 | P19: × | Q19: =#REF! -> #REF! | V19: ( | W19: =#REF! -> #REF! | X19: 대기준) | AC19: =N19*Q19 -> #REF!
D20: - | E20: 부속시설 | H20: : | I20: =#REF! -> #REF! | N20: =#REF! -> #REF! | O20: 회 | P20: × | Q20: ='공연,행사'!O30 -> 5000 | AC20: =N20*Q20 -> #REF!
D21: - | E21: 부속시설 | H21: : | I21: =#REF! -> #REF! | N21: =#REF! -> #REF! | O21: 회 | P21: × | Q21: =#REF! -> #REF! | AC21: =N21*Q21 -> #REF!
D22: - | E22: 부속시설 | H22: : | I22: 비디오프로젝트 | N22: =#REF! -> #REF! | O22: 회 | P22: × | Q22: =#REF! -> #REF! | AC22: =N22*Q22 -> #REF!
D23: - | E23: 부속시설 | H23: : | I23: 냉방 | N23: =#REF! -> #REF! | O23: 회 | P23: × | Q23: =#REF! -> #REF! | AC23: =N23*Q23 -> #REF!
D24: - | E24: 부속시설 | H24: : | I24: 난방 | N24: =#REF! -> #REF! | O24: 회 | P24: × | Q24: =#REF! -> #REF! | AC24: =N24*Q24 -> #REF!
C26: 나. | D26: 공연사용 | AB26: =SUM(AB27:AD43) -> #REF!
D27: - | E27: 기본시설 | H27: : | I27: 2.1.(목) | L27: 야간 | O27: 회 | P27: × | Q27: 165000 | AC27: =N27*Q27 -> 0
D29: - | E29: 부속시설 | H29: : | I29: 피아노(외산) | N29: =#REF! -> #REF! | O29: 회 | P29: × | Q29: =#REF! -> #REF! | AC29: =N29*Q29 -> #REF!
D30: - | E30: 부속시설 | H30: : | I30: 피아노(국산) | N30: =#REF! -> #REF! | O30: 회 | P30: × | Q30: =#REF! -> #REF! | AC30: =N30*Q30 -> #REF!
D31: - | E31: 부속시설 | H31: : | I31: 기본조명 | N31: =#REF! -> #REF! | O31: 회 | P31: × | Q31: =#REF! -> #REF! | AC31: =N31*Q31 -> #REF!
D32: - | E32: 부속시설 | H32: : | I32: 음향반사판 | N32: =#REF! -> #REF! | O32: 회 | P32: × | Q32: =#REF! -> #REF! | AC32: =N32*Q32 -> #REF!
D33: - | E33: 부속시설 | H33: : | I33: 유선마이크 | N33: =#REF! -> #REF! | O33: 회 | P33: × | Q33: =#REF! -> #REF! | V33: ( | W33: =#REF! -> #REF! | X33: 대기준) | AC33: =N33*Q33 -> #REF!
D34: - | E34: 부속시설 | H34: : | I34: 무선마이크 | N34: =#REF! -> #REF! | O34: 회 | P34: × | Q34: =#REF! -> #REF! | V34: ( | W34: =#REF! -> #REF! | X34: 대기준) | AC34: =N34*Q34 -> #REF!
D35: - | E35: 부속시설 | H35: : | I35: CD플레이어 | N35: =#REF! -> #REF! | O35: 회 | P35: × | Q35: =#REF! -> #REF! | AC35: =N35*Q35 -> #REF!
D36: - | E36: 부속시설 | H36: : | I36: 외부무선마이크 | N36: =#REF! -> #REF! | O36: 회 | P36: × | Q36: =#REF! -> #REF! | AC36: =N36*Q36 -> #REF!
D37: - | E37: 부속시설 | H37: : | I37: 비디오프로젝트 | N37: =#REF! -> #REF! | O37: 회 | P37: × | Q37: =#REF! -> #REF! | AC37: =N37*Q37 -> #REF!
D38: - | E38: 부속시설 | H38: : | I38: 덧마루 | N38: =#REF! -> #REF! | O38: 회 | P38: × | Q38: =#REF! -> #REF! | AC38: =N38*Q38 -> #REF!
D39: - | E39: 부속시설 | H39: : | I39: 고무매트 | N39: =#REF! -> #REF! | O39: 회 | P39: × | Q39: =#REF! -> #REF! | AC39: =N39*Q39 -> #REF!
D40: - | E40: 부속시설 | H40: : | I40: 보면대 | N40: =#REF! -> #REF! | O40: 회 | P40: × | Q40: =#REF! -> #REF! | AC40: =N40*Q40 -> #REF!
D41: - | E41: 부속시설 | H41: : | I41: 냉방 | N41: =#REF! -> #REF! | O41: 회 | P41: × | Q41: =#REF! -> #REF! | AC41: =N41*Q41 -> #REF!
D42: - | E42: 부속시설 | H42: : | I42: 난방 | N42: =#REF! -> #REF! | O42: 회 | P42: × | Q42: =#REF! -> #REF! | AC42: =N42*Q42 -> #REF!
C44: 라. | D44: 대관료(부가세 포함) | AA44: =AB9+AB26 -> #REF!
D45: - | E45: 기본시설 | H45: : | I45: =SUM(AC10:AD13)+SUM(AC27:AD28) -> 0
D46: - | E46: 부속시설 | H46: : | I46: =SUM(AC14:AD25)+SUM(AC29:AD43) -> #REF!
B48: 5. | C48: 입금계좌 | F48: : | G48: 대구은행 505-10-196761-4 재단법인행복북구문화재단
G49: (※대관 허가통지서를 받은 즉시 납부 하여야 하며, 송금 후 전화확인 바랍니다. ☎053-320-5127)
B51: ※ 사용시간 구분 : 오전 09:00~12:00│오후 13:00~17:00│야간18:00 ※ 공연연습, 무대시설, 행사준비를 위한 사용시는 당해 기준 사용료의 50%로 함(난방, 덧마루 제외) ※ 토요일, 일요일, 공휴일 사용시는 당해기준 사용료의 20%를 가산함 ※ 공연 오퍼레이터(operrator)및 진행스텝은 대관자 측에서 동반함을 원칙으로 함

Sheet Sheet2
